BEGIN:VCALENDAR
VERSION:2.0
PRODID:-//Olivet Baptist Church - ECPv6.13.2.1//NONSGML v1.0//EN
CALSCALE:GREGORIAN
METHOD:PUBLISH
X-WR-CALNAME:Olivet Baptist Church
X-ORIGINAL-URL:https://www.westportbaptist.com
X-WR-CALDESC:Events for Olivet Baptist Church
REFRESH-INTERVAL;VALUE=DURATION:PT1H
X-Robots-Tag:noindex
X-PUBLISHED-TTL:PT1H
BEGIN:VTIMEZONE
TZID:America/Toronto
BEGIN:DAYLIGHT
TZOFFSETFROM:-0500
TZOFFSETTO:-0400
TZNAME:EDT
DTSTART:20260308T070000
END:DAYLIGHT
BEGIN:STANDARD
TZOFFSETFROM:-0400
TZOFFSETTO:-0500
TZNAME:EST
DTSTART:20261101T060000
END:STANDARD
END:VTIMEZONE
BEGIN:VEVENT
DTSTART;TZID=America/Toronto:20260429T190000
DTEND;TZID=America/Toronto:20260429T190000
DTSTAMP:20260423T145904
CREATED:20170829T050041Z
LAST-MODIFIED:20260423T123636Z
UID:68-1777489200-1777489200@www.westportbaptist.com
SUMMARY:Bible Study and Prayer Meeting\, 7:00 pm
DESCRIPTION:Each Wednesday night we meet in the church or at someone’s house to study God’s Word and to pray. It is also available on Zoom for those wishing to do so from home. Email the church for zoom invite.
URL:https://www.westportbaptist.com/event/bible-study-and-prayer-meeting/
LOCATION:Betty D’s\, 475 Summers Road\, Elgin\, Ontario\, K0G 1E0\, Canada
ATTACH;FMTTYPE=image/jpeg:https://www.westportbaptist.com/wp-content/uploads/2017/08/bible-study_724_482_80.jpg
END:VEVENT
END:VCALENDAR