BEGIN:VCALENDAR
VERSION:2.0
PRODID:-//Olivet Baptist Church - ECPv6.13.2.1//NONSGML v1.0//EN
CALSCALE:GREGORIAN
METHOD:PUBLISH
X-WR-CALNAME:Olivet Baptist Church
X-ORIGINAL-URL:https://www.westportbaptist.com
X-WR-CALDESC:Events for Olivet Baptist Church
REFRESH-INTERVAL;VALUE=DURATION:PT1H
X-Robots-Tag:noindex
X-PUBLISHED-TTL:PT1H
BEGIN:VTIMEZONE
TZID:America/Toronto
BEGIN:DAYLIGHT
TZOFFSETFROM:-0500
TZOFFSETTO:-0400
TZNAME:EDT
DTSTART:20260308T070000
END:DAYLIGHT
BEGIN:STANDARD
TZOFFSETFROM:-0400
TZOFFSETTO:-0500
TZNAME:EST
DTSTART:20261101T060000
END:STANDARD
END:VTIMEZONE
BEGIN:VEVENT
DTSTART;TZID=America/Toronto:20260327T133000
DTEND;TZID=America/Toronto:20260327T133000
DTSTAMP:20260423T181902
CREATED:20171009T192241Z
LAST-MODIFIED:20260324T145627Z
UID:358-1774618200-1774618200@www.westportbaptist.com
SUMMARY:Ladies' Bible Study
DESCRIPTION:On Friday afternoons at 1:30 pm\, the ladies are invited to meet at Gwen C’s for bible study. Please see Rosanna if you are interested.
URL:https://www.westportbaptist.com/event/ladies-beth-moore-study/
LOCATION:Castles\, 797 Concession 8\, Westport\, ON\, K0G 1X0\, Canada
ATTACH;FMTTYPE=image/jpeg:https://www.westportbaptist.com/wp-content/uploads/2017/11/images-1-e1522246399255.jpg
ORGANIZER;CN="Olivet Baptist Church":MAILTO:olivet@rideau.net
END:VEVENT
BEGIN:VEVENT
DTSTART;TZID=America/Toronto:20260326T190000
DTEND;TZID=America/Toronto:20260326T190000
DTSTAMP:20260423T181902
CREATED:20170912T160524Z
LAST-MODIFIED:20260304T140153Z
UID:330-1774551600-1774551600@www.westportbaptist.com
SUMMARY:Board of Management Meeting\, 7:00 pm
DESCRIPTION:Once a month our Board and Pastor meet to discuss the needs of the finances\, church building\, manse and cemetery. We seek to be good stewards of God’s resources and how we can manage them to the glory of God.
URL:https://www.westportbaptist.com/event/board-of-management/
LOCATION:Olivet Baptist Church\, 30 Church St.\, Westport\, ON\, K0G 1X0\, Canada
ATTACH;FMTTYPE=image/jpeg:https://www.westportbaptist.com/wp-content/uploads/2017/09/church-2015.jpg
END:VEVENT
BEGIN:VEVENT
DTSTART;TZID=America/Toronto:20260326T153000
DTEND;TZID=America/Toronto:20260326T153000
DTSTAMP:20260423T181902
CREATED:20240123T194716Z
LAST-MODIFIED:20260324T145722Z
UID:3060-1774539000-1774539000@www.westportbaptist.com
SUMMARY:Outreach Committee Meeting - 7:00 pm
DESCRIPTION:Our outreach committee meets in the church at 3:30 pm to discuss ways in which we can reach out into our community.
URL:https://www.westportbaptist.com/event/potluck-lunch-and-annual-meeting-feb-4th/
LOCATION:Lockwood Park\, Westport\, George St.\, Westport\, Ontario\, K0G 1X0\, Canada
ATTACH;FMTTYPE=image/jpeg:https://www.westportbaptist.com/wp-content/uploads/2022/10/76643714_10220518198935367_7129885752787206144_n.jpg
END:VEVENT
BEGIN:VEVENT
DTSTART;TZID=America/Toronto:20260320T190000
DTEND;TZID=America/Toronto:20260320T210000
DTSTAMP:20260423T181902
CREATED:20170926T121422Z
LAST-MODIFIED:20260313T122331Z
UID:343-1774033200-1774040400@www.westportbaptist.com
SUMMARY:Movie Night\, "Unsung Hero"- 7:00 pm
DESCRIPTION:An Australian family of 9 moves to the States believing God has a plan for their musical abilities\, they face many challenges but see how God leads them in this new chapter in their life. Join us as we watch “Unsung Hero” based on the Smallbone family story\, the lead singers of the band For King and Country
URL:https://www.westportbaptist.com/event/high-school-youth-group/
LOCATION:Olivet Baptist Church\, 30 Church St.\, Westport\, ON\, K0G 1X0\, Canada
ATTACH;FMTTYPE=image/jpeg:https://www.westportbaptist.com/wp-content/uploads/2017/09/Unsung-Hero-Movie-Only-2024-Feature.jpg
END:VEVENT
END:VCALENDAR