BEGIN:VCALENDAR
VERSION:2.0
PRODID:-//Olivet Baptist Church - ECPv6.13.2.1//NONSGML v1.0//EN
CALSCALE:GREGORIAN
METHOD:PUBLISH
X-ORIGINAL-URL:https://www.westportbaptist.com
X-WR-CALDESC:Events for Olivet Baptist Church
REFRESH-INTERVAL;VALUE=DURATION:PT1H
X-Robots-Tag:noindex
X-PUBLISHED-TTL:PT1H
BEGIN:VTIMEZONE
TZID:America/Toronto
BEGIN:DAYLIGHT
TZOFFSETFROM:-0500
TZOFFSETTO:-0400
TZNAME:EDT
DTSTART:20260308T070000
END:DAYLIGHT
BEGIN:STANDARD
TZOFFSETFROM:-0400
TZOFFSETTO:-0500
TZNAME:EST
DTSTART:20261101T060000
END:STANDARD
END:VTIMEZONE
BEGIN:VEVENT
DTSTART;TZID=America/Toronto:20260421T163000
DTEND;TZID=America/Toronto:20260421T163000
DTSTAMP:20260423T131855
CREATED:20170904T144807Z
LAST-MODIFIED:20260421T132745Z
UID:302-1776789000-1776789000@www.westportbaptist.com
SUMMARY:Deacon's Meeting\, 4:30 pm
DESCRIPTION:Once a month our Pastor and deacons meet to study\, pray and  to discern the needs of our church family and how we can grow and reach our community with the gospel.
URL:https://www.westportbaptist.com/event/deacons-meeting/
LOCATION:Olivet Baptist Church\, 30 Church St.\, Westport\, ON\, K0G 1X0\, Canada
ATTACH;FMTTYPE=image/jpeg:https://www.westportbaptist.com/wp-content/uploads/2017/09/bef5eea76cc4a66022077a03a38d31bc.jpg
END:VEVENT
END:VCALENDAR