BEGIN:VCALENDAR
VERSION:2.0
PRODID:-//Olivet Baptist Church - ECPv6.13.2.1//NONSGML v1.0//EN
CALSCALE:GREGORIAN
METHOD:PUBLISH
X-ORIGINAL-URL:https://www.westportbaptist.com
X-WR-CALDESC:Events for Olivet Baptist Church
REFRESH-INTERVAL;VALUE=DURATION:PT1H
X-Robots-Tag:noindex
X-PUBLISHED-TTL:PT1H
BEGIN:VTIMEZONE
TZID:America/Toronto
BEGIN:DAYLIGHT
TZOFFSETFROM:-0500
TZOFFSETTO:-0400
TZNAME:EDT
DTSTART:20260308T070000
END:DAYLIGHT
BEGIN:STANDARD
TZOFFSETFROM:-0400
TZOFFSETTO:-0500
TZNAME:EST
DTSTART:20261101T060000
END:STANDARD
END:VTIMEZONE
BEGIN:VEVENT
DTSTART;TZID=America/Toronto:20260405T063000
DTEND;TZID=America/Toronto:20260405T063000
DTSTAMP:20260423T131848
CREATED:20260331T160036Z
LAST-MODIFIED:20260331T160036Z
UID:3901-1775370600-1775370600@www.westportbaptist.com
SUMMARY:Sunrise Easter morning service
DESCRIPTION:Each year the community gathers at Foley Mountain to celebrate the resurrection of Jesus Christ.
URL:https://www.westportbaptist.com/event/sunrise-easter-morning-service/
LOCATION:Foley Mouain Conservatio Area\, 105 Foley Mountain Lane\, Westport\, ON\, K0G 1X0\, Canada
ATTACH;FMTTYPE=image/jpeg:https://www.westportbaptist.com/wp-content/uploads/2018/03/christs-resurrection-key-to-our-salvation.jpg
END:VEVENT
END:VCALENDAR