BEGIN:VCALENDAR
VERSION:2.0
PRODID:-//Olivet Baptist Church - ECPv6.13.2.1//NONSGML v1.0//EN
CALSCALE:GREGORIAN
METHOD:PUBLISH
X-ORIGINAL-URL:https://www.westportbaptist.com
X-WR-CALDESC:Events for Olivet Baptist Church
REFRESH-INTERVAL;VALUE=DURATION:PT1H
X-Robots-Tag:noindex
X-PUBLISHED-TTL:PT1H
BEGIN:VTIMEZONE
TZID:America/Toronto
BEGIN:DAYLIGHT
TZOFFSETFROM:-0500
TZOFFSETTO:-0400
TZNAME:EDT
DTSTART:20260308T070000
END:DAYLIGHT
BEGIN:STANDARD
TZOFFSETFROM:-0400
TZOFFSETTO:-0500
TZNAME:EST
DTSTART:20261101T060000
END:STANDARD
END:VTIMEZONE
BEGIN:VEVENT
DTSTART;TZID=America/Toronto:20260403T100000
DTEND;TZID=America/Toronto:20260403T100000
DTSTAMP:20260423T131856
CREATED:20231212T161837Z
LAST-MODIFIED:20260331T155556Z
UID:3019-1775210400-1775210400@www.westportbaptist.com
SUMMARY:Good Friday Walk with the Cross
DESCRIPTION:Each Good Friday we meet at one of the churches and walk with the cross to the church hosting our Good Friday service. This year we start at St. Paul’s Anglican Church @ 10:00 am
URL:https://www.westportbaptist.com/event/christmas-eve-service-630-pm/
LOCATION:St. Paul’s Anglican Church\, 11 Spring St.\, Westport\, ON\, K0G 1X0\, Canada
ATTACH;FMTTYPE=image/png:https://www.westportbaptist.com/wp-content/uploads/2019/03/lent.png
END:VEVENT
BEGIN:VEVENT
DTSTART;TZID=America/Toronto:20260403T103000
DTEND;TZID=America/Toronto:20260403T103000
DTSTAMP:20260423T131856
CREATED:20260331T155800Z
LAST-MODIFIED:20260331T155800Z
UID:3899-1775212200-1775212200@www.westportbaptist.com
SUMMARY:Good Friday Community Service\, 10:30 am
DESCRIPTION:Our community Good Friday service takes place at Knox Presbyterian Church at 10:30 am
URL:https://www.westportbaptist.com/event/good-friday-community-service-1030-am/
LOCATION:Knox Presbyterian Church Westport\, Ontario\, 47 Concession Street\, Westport\, Ontario\, K0G 1X0\, Canada
ATTACH;FMTTYPE=image/jpeg:https://www.westportbaptist.com/wp-content/uploads/2019/03/lentbackground.jpg
END:VEVENT
END:VCALENDAR